BEGIN:VCALENDAR
VERSION:2.0
PRODID:-//Soziale Stadt Rosenheim - ECPv6.15.18//NONSGML v1.0//EN
CALSCALE:GREGORIAN
METHOD:PUBLISH
X-WR-CALNAME:Soziale Stadt Rosenheim
X-ORIGINAL-URL:https://www.sozialestadt-rosenheim.de
X-WR-CALDESC:Veranstaltungen für Soziale Stadt Rosenheim
REFRESH-INTERVAL;VALUE=DURATION:PT1H
X-Robots-Tag:noindex
X-PUBLISHED-TTL:PT1H
BEGIN:VTIMEZONE
TZID:Europe/Berlin
BEGIN:DAYLIGHT
TZOFFSETFROM:+0100
TZOFFSETTO:+0200
TZNAME:CEST
DTSTART:20240331T010000
END:DAYLIGHT
BEGIN:STANDARD
TZOFFSETFROM:+0200
TZOFFSETTO:+0100
TZNAME:CET
DTSTART:20241027T010000
END:STANDARD
BEGIN:DAYLIGHT
TZOFFSETFROM:+0100
TZOFFSETTO:+0200
TZNAME:CEST
DTSTART:20250330T010000
END:DAYLIGHT
BEGIN:STANDARD
TZOFFSETFROM:+0200
TZOFFSETTO:+0100
TZNAME:CET
DTSTART:20251026T010000
END:STANDARD
BEGIN:DAYLIGHT
TZOFFSETFROM:+0100
TZOFFSETTO:+0200
TZNAME:CEST
DTSTART:20260329T010000
END:DAYLIGHT
BEGIN:STANDARD
TZOFFSETFROM:+0200
TZOFFSETTO:+0100
TZNAME:CET
DTSTART:20261025T010000
END:STANDARD
END:VTIMEZONE
BEGIN:VEVENT
DTSTART;TZID=Europe/Berlin:20251106T160000
DTEND;TZID=Europe/Berlin:20251106T160000
DTSTAMP:20260423T164342
CREATED:20251029T110736Z
LAST-MODIFIED:20251029T111056Z
UID:8583-1762444800-1762444800@www.sozialestadt-rosenheim.de
SUMMARY:Informationsveranstaltung zur Vorsorgevollmacht und Betreuungsverfügung
DESCRIPTION:Informationsveranstaltungen zur Vorsorgevollmacht\, Betreuungsverfügung und Patientenverfügung \nDie Kontaktstelle Bürgerschaftliches Engagement lädt im November zu zwei kostenlosen Informationsveranstaltungen ins Bürgerhaus Miteinander\, Lessingstraße 77 in Rosenheim\, ein. \n  \nVorsorgevollmacht und Betreuungsverfügung\nDonnerstag:       6. November um 16:00 Uhr \n  \nPatientenverfügung\nDonnerstag:       20. November um 16:00 Uhr                                                        \n  \nDie Vorträge werden vom Betreuungsverein der Diakonie Rosenheim gehalten. Sie informieren praxisnah darüber\, wie man mit den richtigen Dokumenten sicherstellen kann\, dass persönliche Wünsche und Entscheidungen im Ernstfall berücksichtigt werden. Außerdem gibt es Gelegenheit\, Fragen zu stellen. \nEingeladen sind alle Interessierten – eine Anmeldung ist nicht erforderlich. \n  \nBei Fragen steht die Kontaktstelle Bürgerschaftliches Engagement gerne zur Verfügung \nKarin Weiß\nTelefon: 08031 400 98 49\nE-Mail: k.weiss@kinderschutzbund-rosenheim.de
URL:https://www.sozialestadt-rosenheim.de/termine/informationsveranstaltung-zur-vorsorgevollmacht-und-betreuungsverfuegung/
LOCATION:Bürgerhaus Miteinander\, Lessingstr. 77\, Rosenheim\, 83024\, Deutschland
CATEGORIES:Bürgerhaus Miteinander,Infos für Familien,Senioren
ATTACH;FMTTYPE=image/png:https://www.sozialestadt-rosenheim.de/wp-content/uploads/Screenshot-2025-10-29-101415.png
END:VEVENT
END:VCALENDAR