BEGIN:VCALENDAR
VERSION:2.0
PRODID:-//Soziale Stadt Rosenheim - ECPv6.15.18//NONSGML v1.0//EN
CALSCALE:GREGORIAN
METHOD:PUBLISH
X-WR-CALNAME:Soziale Stadt Rosenheim
X-ORIGINAL-URL:https://www.sozialestadt-rosenheim.de
X-WR-CALDESC:Veranstaltungen für Soziale Stadt Rosenheim
REFRESH-INTERVAL;VALUE=DURATION:PT1H
X-Robots-Tag:noindex
X-PUBLISHED-TTL:PT1H
BEGIN:VTIMEZONE
TZID:Europe/Berlin
BEGIN:DAYLIGHT
TZOFFSETFROM:+0100
TZOFFSETTO:+0200
TZNAME:CEST
DTSTART:20240331T010000
END:DAYLIGHT
BEGIN:STANDARD
TZOFFSETFROM:+0200
TZOFFSETTO:+0100
TZNAME:CET
DTSTART:20241027T010000
END:STANDARD
BEGIN:DAYLIGHT
TZOFFSETFROM:+0100
TZOFFSETTO:+0200
TZNAME:CEST
DTSTART:20250330T010000
END:DAYLIGHT
BEGIN:STANDARD
TZOFFSETFROM:+0200
TZOFFSETTO:+0100
TZNAME:CET
DTSTART:20251026T010000
END:STANDARD
BEGIN:DAYLIGHT
TZOFFSETFROM:+0100
TZOFFSETTO:+0200
TZNAME:CEST
DTSTART:20260329T010000
END:DAYLIGHT
BEGIN:STANDARD
TZOFFSETFROM:+0200
TZOFFSETTO:+0100
TZNAME:CET
DTSTART:20261025T010000
END:STANDARD
END:VTIMEZONE
BEGIN:VEVENT
DTSTART;TZID=Europe/Berlin:20251127T180000
DTEND;TZID=Europe/Berlin:20251127T180000
DTSTAMP:20260423T164509
CREATED:20250127T134427Z
LAST-MODIFIED:20250128T102719Z
UID:8189-1764266400-1764266400@www.sozialestadt-rosenheim.de
SUMMARY:Stadtteilversammlung im Bürgerhaus E-Werk
DESCRIPTION:Donnerstag\, 27.11.2025 \nIn den drei Rosenheimer Sozialräumen Nord\, Ost und West gibt es regelmäßige Stadtteilversammlungen. Diese finden in den Bürgerhäusern statt. Hier wird über Themen gesprochen\, die für den Stadtteil wichtig sind. Außerdem werden Projektideen vorgestellt und über Anträge an den Bürgerfonds abgestimmt. \n\nBei Fragen und Anregungen einfach bei Christian Hlatky unter hlatky@startklar-soziale-arbeit.de melden oder im Bürgerhaus E-Werk (08031 237272).
URL:https://www.sozialestadt-rosenheim.de/termine/stadtteilversammlung-im-buergerhaus-e-werk-7/
LOCATION:Bürgerhaus E-Werk\, Oberwöhrstraße 76\, Rosenheim\, 83026\, Deutschland
CATEGORIES:E-Werk,Stadtteilversammlung
ATTACH;FMTTYPE=image/png:https://www.sozialestadt-rosenheim.de/wp-content/uploads/Bild-Stadtteilversammlung-West1.png
END:VEVENT
END:VCALENDAR