BEGIN:VCALENDAR
VERSION:2.0
PRODID:-//Soziale Stadt Rosenheim - ECPv6.15.18//NONSGML v1.0//EN
CALSCALE:GREGORIAN
METHOD:PUBLISH
X-WR-CALNAME:Soziale Stadt Rosenheim
X-ORIGINAL-URL:https://www.sozialestadt-rosenheim.de
X-WR-CALDESC:Veranstaltungen für Soziale Stadt Rosenheim
REFRESH-INTERVAL;VALUE=DURATION:PT1H
X-Robots-Tag:noindex
X-PUBLISHED-TTL:PT1H
BEGIN:VTIMEZONE
TZID:Europe/Berlin
BEGIN:DAYLIGHT
TZOFFSETFROM:+0100
TZOFFSETTO:+0200
TZNAME:CEST
DTSTART:20240331T010000
END:DAYLIGHT
BEGIN:STANDARD
TZOFFSETFROM:+0200
TZOFFSETTO:+0100
TZNAME:CET
DTSTART:20241027T010000
END:STANDARD
BEGIN:DAYLIGHT
TZOFFSETFROM:+0100
TZOFFSETTO:+0200
TZNAME:CEST
DTSTART:20250330T010000
END:DAYLIGHT
BEGIN:STANDARD
TZOFFSETFROM:+0200
TZOFFSETTO:+0100
TZNAME:CET
DTSTART:20251026T010000
END:STANDARD
BEGIN:DAYLIGHT
TZOFFSETFROM:+0100
TZOFFSETTO:+0200
TZNAME:CEST
DTSTART:20260329T010000
END:DAYLIGHT
BEGIN:STANDARD
TZOFFSETFROM:+0200
TZOFFSETTO:+0100
TZNAME:CET
DTSTART:20261025T010000
END:STANDARD
END:VTIMEZONE
BEGIN:VEVENT
DTSTART;TZID=Europe/Berlin:20251001T170000
DTEND;TZID=Europe/Berlin:20251001T183000
DTSTAMP:20260423T164404
CREATED:20250428T104601Z
LAST-MODIFIED:20250428T104601Z
UID:8374-1759338000-1759343400@www.sozialestadt-rosenheim.de
SUMMARY:Schnipp & Schnapp: Bunte Bastelstunde für Kids
DESCRIPTION:Herbstmotive \nAlle Informationen finden Sie auf dem Bild! \n 
URL:https://www.sozialestadt-rosenheim.de/termine/schnipp-schnapp-bunte-bastelstunde-fuer-kids-4/
LOCATION:Bürgerhaus Happing\, Happinger Straße 83\, Rosenheim\, 83026\, Deutschland
CATEGORIES:Bürgerhaus Happing,Infos für Familien
ATTACH;FMTTYPE=image/png:https://www.sozialestadt-rosenheim.de/wp-content/uploads/Schnipp-Schnapp-Oktober-1-Neu-1.png
END:VEVENT
BEGIN:VEVENT
DTSTART;TZID=Europe/Berlin:20251009T183000
DTEND;TZID=Europe/Berlin:20251009T183000
DTSTAMP:20260423T164404
CREATED:20250125T112822Z
LAST-MODIFIED:20250128T103054Z
UID:8120-1760034600-1760034600@www.sozialestadt-rosenheim.de
SUMMARY:Stadtteilversammlung in Happing
DESCRIPTION:Donnerstag 9. Oktober 2025 um 18.30 Uhr In den drei Rosenheimer Sozialräumen Nord\, Ost und West gibt es regelmäßige Stadtteilversammlungen. Diese finden in den Bürgerhäusern statt. Hier wird über Themen gesprochen\, die für den Stadtteil wichtig sind. Außerdem werden Projektideen vorgestellt und über Anträge an den Bürgerfonds abgestimmt.
URL:https://www.sozialestadt-rosenheim.de/termine/stadtteilversammlung-in-happing-4-2/
LOCATION:Bürgerhaus Happing\, Happinger Straße 83\, Rosenheim\, 83026\, Deutschland
CATEGORIES:Bürgerhaus Happing,Stadtteilversammlung
ATTACH;FMTTYPE=image/jpeg:https://www.sozialestadt-rosenheim.de/wp-content/uploads/Buergerhaus-03a-2048x1204-1.jpg
END:VEVENT
BEGIN:VEVENT
DTSTART;TZID=Europe/Berlin:20251011T080000
DTEND;TZID=Europe/Berlin:20251011T120000
DTSTAMP:20260423T164404
CREATED:20250915T092139Z
LAST-MODIFIED:20250915T092139Z
UID:8535-1760169600-1760184000@www.sozialestadt-rosenheim.de
SUMMARY:Flohmarkt „Rund um’s Kind“ in Happing
DESCRIPTION:Am Samstag\, den 11. Oktober von 8 bis 12 Uhr bietet der Stadtteilverein Happing e.V. im Bürgerhaus in Happing die Gelegenheit\, gut erhaltene Kinderbekleidung\, Spielsachen und Zubehör günstig zu finden oder zu verkaufen.\nDie Tische werden gestellt. Die Gebühr beträgt 15 €.\nGewerbliche Verkäufer sind vom Flohmarkt ausgeschlossen.\nVoranmeldungen per Mail an: christine@vierthaler-online.de\nFür das leibliche Wohl ist gesorgt.\nDie Einnahmen durch die Tischgebühren kommen Projekten vom Stadtteilverein Happing e.V. zu Gute.\nVeranstalter: Stadtteilverein Happing e.V.
URL:https://www.sozialestadt-rosenheim.de/termine/flohmarkt-rund-ums-kind-in-happing/
LOCATION:Bürgerhaus Happing\, Happinger Straße 83\, Rosenheim\, 83026\, Deutschland
CATEGORIES:Bürgerhaus Happing,Ehrenamt,Infos für Familien
ATTACH;FMTTYPE=image/png:https://www.sozialestadt-rosenheim.de/wp-content/uploads/1150-Flohmarkt-11.10.2025-ab-8-Uhr-1.png
END:VEVENT
BEGIN:VEVENT
DTSTART;TZID=Europe/Berlin:20251015T170000
DTEND;TZID=Europe/Berlin:20251015T170000
DTSTAMP:20260423T164404
CREATED:20250125T155332Z
LAST-MODIFIED:20250128T103015Z
UID:8150-1760547600-1760547600@www.sozialestadt-rosenheim.de
SUMMARY:Flammkuchenaktion
DESCRIPTION:Aktionen mit dem Sozialraumteam West im/ am Bürgerhaus E-Werk: Jahresplan 2025\nAnbei informiert das Sozialraumteam West über geplante Termine im Jahr 2025 im Bürgerhaus E-Werk! \n \n\n\n\n\nStartklar Rosenheim-Ebersberg\nGemeinwesenarbeit\nChristian Hlatky\n\n\n\n\n\n\n\n\n\n\nTeamleitung Projekte Rosenheim \n\n\n\n\n\n\n\n+49-176 22893799\n\n\n\n\n\n\n\nhlatky@startklar-soziale-arbeit.de\n\n\n\n\n\n 
URL:https://www.sozialestadt-rosenheim.de/termine/flammkuchenaktion/
LOCATION:Bürgerhaus E-Werk\, Oberwöhrstraße 76\, Rosenheim\, 83026\, Deutschland
CATEGORIES:E-Werk,Infos für Familien
ATTACH;FMTTYPE=image/jpeg:https://www.sozialestadt-rosenheim.de/wp-content/uploads/1150-Jahresprogramm-Buergerhaus-Endorfer-Au-2025.jpg
END:VEVENT
BEGIN:VEVENT
DTSTART;TZID=Europe/Berlin:20251016T183000
DTEND;TZID=Europe/Berlin:20251016T193000
DTSTAMP:20260423T164404
CREATED:20241206T143058Z
LAST-MODIFIED:20250917T151116Z
UID:7964-1760639400-1760643000@www.sozialestadt-rosenheim.de
SUMMARY:Stadtteilversammlung in Happing
DESCRIPTION:Donnerstag 16. Oktober 2025 um 18.30 Uhr In den drei Rosenheimer Sozialräumen Nord\, Ost und West gibt es regelmäßige Stadtteilversammlungen. Diese finden in den Bürgerhäusern statt. Hier wird über Themen gesprochen\, die für den Stadtteil wichtig sind. Außerdem werden Projektideen vorgestellt und über Anträge an den Bürgerfonds abgestimmt.
URL:https://www.sozialestadt-rosenheim.de/termine/stadtteilversammlung-in-happing-5/
LOCATION:Bürgerhaus Happing\, Happinger Straße 83\, Rosenheim\, 83026\, Deutschland
CATEGORIES:Bürgerhaus Happing,Stadtteilversammlung
ATTACH;FMTTYPE=image/jpeg:https://www.sozialestadt-rosenheim.de/wp-content/uploads/Buergerhaus-03a-2048x1204-1.jpg
END:VEVENT
BEGIN:VEVENT
DTSTART;TZID=Europe/Berlin:20251024T150000
DTEND;TZID=Europe/Berlin:20251024T150000
DTSTAMP:20260423T164404
CREATED:20250905T111846Z
LAST-MODIFIED:20250905T111941Z
UID:8524-1761318000-1761318000@www.sozialestadt-rosenheim.de
SUMMARY:Musik am Nachmittag: Così fan tutte
DESCRIPTION:Karten kostenfrei. Bewirtungspauschale 10€. \nAlle weiteren Informationen entnehmen Sie bitte dem Bild.
URL:https://www.sozialestadt-rosenheim.de/termine/musik-am-nachmittag-cosi-fan-tutte/
LOCATION:Kultur +  Kongress Zentrum\, Kufsteiner Str. 4\, Rosenheim\, Bayern\, 83022\, Germany
CATEGORIES:Kulturelle Bildung,Senioren
ATTACH;FMTTYPE=image/jpeg:https://www.sozialestadt-rosenheim.de/wp-content/uploads/1150-Musik-am-Nachmittag-24.10.2025-1.jpg
END:VEVENT
BEGIN:VEVENT
DTSTART;TZID=Europe/Berlin:20251027T150000
DTEND;TZID=Europe/Berlin:20251027T150000
DTSTAMP:20260423T164404
CREATED:20250125T155444Z
LAST-MODIFIED:20250128T102953Z
UID:8152-1761577200-1761577200@www.sozialestadt-rosenheim.de
SUMMARY:Kürbisschnitzen
DESCRIPTION:Aktionen mit dem Sozialraumteam West im/ am Bürgerhaus E-Werk: Jahresplan 2025\nAnbei informiert das Sozialraumteam West über geplante Termine im Jahr 2025 im Bürgerhaus E-Werk! \n \n\n\n\n\nStartklar Rosenheim-Ebersberg\nGemeinwesenarbeit\nChristian Hlatky\n\n\n\n\n\n\n\n\n\n\nTeamleitung Projekte Rosenheim \n\n\n\n\n\n\n\n+49-176 22893799\n\n\n\n\n\n\n\nhlatky@startklar-soziale-arbeit.de\n\n\n\n\n\n 
URL:https://www.sozialestadt-rosenheim.de/termine/kuerbisschnitzen/
LOCATION:Bürgerhaus E-Werk\, Oberwöhrstraße 76\, Rosenheim\, 83026\, Deutschland
CATEGORIES:E-Werk,Infos für Familien
ATTACH;FMTTYPE=image/jpeg:https://www.sozialestadt-rosenheim.de/wp-content/uploads/1150-Jahresprogramm-Buergerhaus-Endorfer-Au-2025.jpg
END:VEVENT
BEGIN:VEVENT
DTSTART;TZID=Europe/Berlin:20251029T150000
DTEND;TZID=Europe/Berlin:20251029T170000
DTSTAMP:20260423T164404
CREATED:20250704T115527Z
LAST-MODIFIED:20250704T115527Z
UID:8414-1761750000-1761757200@www.sozialestadt-rosenheim.de
SUMMARY:Pflegefall – was nun ? Pflege organisieren – So geht`s!
DESCRIPTION:29. Oktober 2025 von 15 – 17 Uhr im Bürgerhaus E-Werk. Alle weiteren Informationen finden Sie auf dem Bild.
URL:https://www.sozialestadt-rosenheim.de/termine/pflegefall-was-nun-pflege-organisieren-so-gehts-3/
LOCATION:Bürgerhaus E-Werk\, Oberwöhrstraße 76\, Rosenheim\, 83026\, Deutschland
CATEGORIES:E-Werk,Infos für Familien,Senioren
ATTACH;FMTTYPE=image/png:https://www.sozialestadt-rosenheim.de/wp-content/uploads/Buergerhaus-E-Werk-1.png
ORGANIZER;CN="Pro Senioren Rosenheim e.V.":MAILTO:info@pro-senioren-rosenheim.de
END:VEVENT
BEGIN:VEVENT
DTSTART;TZID=Europe/Berlin:20251029T170000
DTEND;TZID=Europe/Berlin:20251029T183000
DTSTAMP:20260423T164404
CREATED:20250428T105256Z
LAST-MODIFIED:20250428T105256Z
UID:8378-1761757200-1761762600@www.sozialestadt-rosenheim.de
SUMMARY:Schnipp & Schnapp: Bunte Bastelstunde für Kids
DESCRIPTION:Halloween-Party \nAlle Informationen finden Sie auf dem Bild! \n  \n \n 
URL:https://www.sozialestadt-rosenheim.de/termine/schnipp-schnapp-bunte-bastelstunde-fuer-kids-5/
LOCATION:Bürgerhaus Happing\, Happinger Straße 83\, Rosenheim\, 83026\, Deutschland
CATEGORIES:Bürgerhaus Happing,Infos für Familien
ATTACH;FMTTYPE=image/png:https://www.sozialestadt-rosenheim.de/wp-content/uploads/Schnipp-Schnapp-Oktober-2-Neu.png
END:VEVENT
END:VCALENDAR